BEGIN:VCALENDAR
VERSION:2.0
PRODID:-//Graines d&#039;éveil - ECPv6.15.20//NONSGML v1.0//EN
CALSCALE:GREGORIAN
METHOD:PUBLISH
X-WR-CALNAME:Graines d&#039;éveil
X-ORIGINAL-URL:https://graines-deveil.ch
X-WR-CALDESC:Évènements pour Graines d&#039;éveil
REFRESH-INTERVAL;VALUE=DURATION:PT1H
X-Robots-Tag:noindex
X-PUBLISHED-TTL:PT1H
BEGIN:VTIMEZONE
TZID:Europe/Zurich
BEGIN:DAYLIGHT
TZOFFSETFROM:+0100
TZOFFSETTO:+0200
TZNAME:CEST
DTSTART:20250330T010000
END:DAYLIGHT
BEGIN:STANDARD
TZOFFSETFROM:+0200
TZOFFSETTO:+0100
TZNAME:CET
DTSTART:20251026T010000
END:STANDARD
BEGIN:DAYLIGHT
TZOFFSETFROM:+0100
TZOFFSETTO:+0200
TZNAME:CEST
DTSTART:20260329T010000
END:DAYLIGHT
BEGIN:STANDARD
TZOFFSETFROM:+0200
TZOFFSETTO:+0100
TZNAME:CET
DTSTART:20261025T010000
END:STANDARD
BEGIN:DAYLIGHT
TZOFFSETFROM:+0100
TZOFFSETTO:+0200
TZNAME:CEST
DTSTART:20270328T010000
END:DAYLIGHT
BEGIN:STANDARD
TZOFFSETFROM:+0200
TZOFFSETTO:+0100
TZNAME:CET
DTSTART:20271031T010000
END:STANDARD
BEGIN:DAYLIGHT
TZOFFSETFROM:+0100
TZOFFSETTO:+0200
TZNAME:CEST
DTSTART:20280326T010000
END:DAYLIGHT
BEGIN:STANDARD
TZOFFSETFROM:+0200
TZOFFSETTO:+0100
TZNAME:CET
DTSTART:20281029T010000
END:STANDARD
END:VTIMEZONE
BEGIN:VEVENT
DTSTART;VALUE=DATE:20260424
DTEND;VALUE=DATE:20270111
DTSTAMP:20260425T173217
CREATED:20260112T184342Z
LAST-MODIFIED:20260304T133541Z
UID:10000319-1776988800-1799625599@graines-deveil.ch
SUMMARY:Praticien en Hypnose Ericksonienne 12 jours - Lausanne
DESCRIPTION:[vc_row row_height_percent= »0″ override_padding= »yes » h_padding= »0″ top_padding= »0″ bottom_padding= »0″ overlay_alpha= »50″ gutter_size= »3″ column_width_percent= »100″ shift_y= »0″ z_index= »0″ content_parallax= »0″ uncode_shortcode_id= »525426″][vc_column column_width_percent= »100″ gutter_size= »3″ overlay_alpha= »50″ shift_x= »0″ shift_y= »0″ shift_y_down= »0″ z_index= »0″ medium_width= »0″ mobile_width= »0″ width= »1/1″][vc_column_text uncode_shortcode_id= »183304″]Dates: 4 Modules (4+3+3+2 jours): *24-26 avril 2026/ 24-27 septembre 2026/ 6-8 novembre 2026/ 9-10 janvier 2027 \nPré-requis: Base en PNL ( 3 jours pour comprendre l’humain et apprendre les techniques d’entretien orientées solution) qui se donne à Genève\, Lausanne et à Martigny. Egalement possibilité de la faire en ligne en différé\, demandez nous les conditions. \nSi vous avez déjà fait la Base d’Hypnose de 4 jours\, il ne vous reste plus que 8 jours: *2-4 octobre 2026/ 6-8 novembre 2026 et 9-10 janvier 2027 et vous pouvez enlever les 920\,-chf que vous aurez payé pour la Base. \n*Ce module correspond au module 1 du Praticien en PNL ( l’art de poser des bonnes questions) Pour celles et ceux qui ont déjà fait ce module\, vous aurez une équivalence et de 600\,-chf sur le prix qui sera donc 2800\,- Frs. au lieu de 3400\,-Frs.\nSi vous avez fait une formation d’hypnose dans une autre école de formation n’hésitez pas à nous demande une équivalence. \nHoraires: 9h30-17h30\nLieu: Lausanne – Hôtel Alpha Palmier\, Animé par Trina Mohn et Karine Allaman\n \nTarifs:\nFrs. 3’400.- formation de 12 jours avec la certification / Frs. 2’480\,- si vous avez déjà fait la formation de Base en hypnose chez Graines-d’éveil ( 4 jours) \nAcompte à l’inscription:\nUn acompte de CHF 600.- vous est demandé pour valider l’inscription.\nTous les détails pour le paiement vous seront communiqués dans l’email de confirmation. \nPrix spécial Cursus complet de 24 jours.\nEn vous inscrivant au cursus complet de 24 jours\, vous bénéficiez d’un rabais de 400 Frs.\n3 400\,-chf le Praticien·ne (12j) + 3 400\,-chf le Maître praticien·ne (12j) \n Frs. 6’400.- au lieu de Frs. 6’800.- pour les 24 jours\, réduction de 620\,-chf supplémentaire si vous avez déjà fait l’art de poser des bonnes questions dans votre cursus de PNL et ou Coach. \nVous avez déjà suivi la formation de Praticien ou Maître praticien PNL chez Graines-d’éveil\, demandez nous les équivalences que nous offrons. \nPoint fort : En sortant de chaque module vous aurez accès à une plateforme avec des démonstrations filmées de chaque protocole enseigné. \nAussi\, une fois la formation achevée vous pourrez\, dans les 3 ans qui suivent la formation\, revenir gratuitement à une prochaine formation du même niveau pour revoir certains modules ou l’entièreté de la formation\, sous réserve de places disponibles. \nEn plus d’organiser des formations\, Graines d’éveil organise des demi-journées de supervision/perfectionnement dès Praticien·ne en hypnose achevée\, et ceci pour un prix très avantageux\, (Frs 200.-) \nReconnaissance ASCA:\nNotre formation est reconnue par l’ASCA (tronc 2). Pour être agréé·e\, vous devez suivre les 160h d’anatomie-physiologie. Equivalence pour personnel soignant\, voir les conditions de l’ASCA. \nNote: Possibilité de faire la formation de Base en PNL en ligne en différé. Demandez nous les conditions. [/vc_column_text]\n\n  \n\n\n\nFormulaire d'inscription\nJe m'inscris à:  		\n\n			\n			\n		\n		 \nAux dates: \n\n		\n\n			\n			\n		\n		 \n		\n\n			\n			\n		\n		 \n\nVeuillez laisser ce champ vide. \n\n \n \n\n\n \nArgovieAppenzell Rhodes int.Appenzell Rhodes ext.Bâle CampagneBâle VilleBernFribourgGenèveGlarisGrisonsJuraLucerneNeuchâtelNidwaldObwaldSaint-GallSchaffhouseSoleureSchwyzTessinThurgovieUriValaisVaudZougZürichLiechtenstein \n\n\n \n \n\n\n \n \n\n\nDate de naissance:   \n\nVeuillez laisser ce champ vide.\n\n  \n\nComment nous avez-vous connu ? Site webTout ménageCinémaUn amiAnnonce dans le journalAutre...  \n\nVous allez recevoir une confirmation d’inscription avec toutes les informations nécessaires pour le paiement. Si vous ne recevez pas de confirmation d’ici quelques minutes\, merci de vérifier dans vos spams.  \n\n Je désire m’inscrire à la newsletter de Graines d’éveil pour rester informé.e de nos prochaines formations. \n\nJe reconnais avoir pris connaissance et accepte les conditions générales\, la politique de confidentialité et les droits d’auteur et reproduction du matériel. \n\nRecopier ce code:  \n \n\n \n\nLes champs avec * sont obligatoires \n\n\n[/vc_column][/vc_row]
URL:https://graines-deveil.ch/formation-graines-d-eveil/praticien-en-hypnose-ericksonienne-10-jours-lausanne-24-avril-2026/
LOCATION:Hôtel Alpha Palmier\, Rue Petit Chêne 34\, Lausanne\, Vaud\, 1003\, Switzerland
CATEGORIES:Hypnose Ericksonienne,Hypnose Praticien
END:VEVENT
END:VCALENDAR