BEGIN:VCALENDAR
VERSION:2.0
PRODID:-//Graines d&#039;éveil - ECPv6.15.20//NONSGML v1.0//EN
CALSCALE:GREGORIAN
METHOD:PUBLISH
X-WR-CALNAME:Graines d&#039;éveil
X-ORIGINAL-URL:https://graines-deveil.ch
X-WR-CALDESC:Évènements pour Graines d&#039;éveil
REFRESH-INTERVAL;VALUE=DURATION:PT1H
X-Robots-Tag:noindex
X-PUBLISHED-TTL:PT1H
BEGIN:VTIMEZONE
TZID:Europe/Zurich
BEGIN:DAYLIGHT
TZOFFSETFROM:+0100
TZOFFSETTO:+0200
TZNAME:CEST
DTSTART:20250330T010000
END:DAYLIGHT
BEGIN:STANDARD
TZOFFSETFROM:+0200
TZOFFSETTO:+0100
TZNAME:CET
DTSTART:20251026T010000
END:STANDARD
BEGIN:DAYLIGHT
TZOFFSETFROM:+0100
TZOFFSETTO:+0200
TZNAME:CEST
DTSTART:20260329T010000
END:DAYLIGHT
BEGIN:STANDARD
TZOFFSETFROM:+0200
TZOFFSETTO:+0100
TZNAME:CET
DTSTART:20261025T010000
END:STANDARD
BEGIN:DAYLIGHT
TZOFFSETFROM:+0100
TZOFFSETTO:+0200
TZNAME:CEST
DTSTART:20270328T010000
END:DAYLIGHT
BEGIN:STANDARD
TZOFFSETFROM:+0200
TZOFFSETTO:+0100
TZNAME:CET
DTSTART:20271031T010000
END:STANDARD
BEGIN:DAYLIGHT
TZOFFSETFROM:+0100
TZOFFSETTO:+0200
TZNAME:CEST
DTSTART:20280326T010000
END:DAYLIGHT
BEGIN:STANDARD
TZOFFSETFROM:+0200
TZOFFSETTO:+0100
TZNAME:CET
DTSTART:20281029T010000
END:STANDARD
END:VTIMEZONE
BEGIN:VEVENT
DTSTART;VALUE=DATE:20261030
DTEND;VALUE=DATE:20261102
DTSTAMP:20260419T180255
CREATED:20260205T101330Z
LAST-MODIFIED:20260205T101330Z
UID:10000322-1793318400-1793577599@graines-deveil.ch
SUMMARY:Base PNL en 3 jours - Lausanne
DESCRIPTION:[vc_row row_height_percent= »0″ override_padding= »yes » h_padding= »0″ top_padding= »0″ bottom_padding= »0″ overlay_alpha= »50″ gutter_size= »3″ column_width_percent= »100″ shift_y= »0″ z_index= »0″ content_parallax= »0″ uncode_shortcode_id= »211568″][vc_column width= »1/1″][vc_column_text uncode_shortcode_id= »203546″] \nDates: 30 octobre – 1 novembre 2026 \n\nHoraires: 9h30-17h00 les vendredi\, samedi et dimanche\nLieu: Lausanne – Hôtel Alpha Palmiers \nAnimé par Trina Mohn \nTarifs:\nFrs. 580.- \nAcompte à l’inscription:\nUn acompte de CHF 200.- vous est demandé pour valider l’inscription.\nTous les détails pour le paiement vous seront communiqués dans l’email de confirmation. \nTarif cursus complet:\nPrix spécial pour les inscriptions au cursus complet : Base – Praticien – Maître Praticien = Frs. 8800.- au lieu de Frs. 9780.- \nModalités de paiement:\nPour le cursus complet\, un acompte de Frs. 1’400.- est demandé pour valider l’inscription.\nPossibilité d’échelonner les paiements en 6 acomptes de Frs. 1’400. \nPoint fort: Une fois la formation achevée vous pourrez\, dans les 3 ans qui suivent la formation\, revenir gratuitement à une prochaine formation du même niveau pour revoir certains modules ou l’entièreté de la formation\, sous réserve de places disponibles. \n\n[/vc_column_text]\n\n  \n\n\n\nFormulaire d'inscription\nJe m'inscris à:  		\n\n			\n			\n		\n		 \nAux dates: \n\n		\n\n			\n			\n		\n		 \n		\n\n			\n			\n		\n		 \n\nVeuillez laisser ce champ vide. \n\n \n \n\n\n \nArgovieAppenzell Rhodes int.Appenzell Rhodes ext.Bâle CampagneBâle VilleBernFribourgGenèveGlarisGrisonsJuraLucerneNeuchâtelNidwaldObwaldSaint-GallSchaffhouseSoleureSchwyzTessinThurgovieUriValaisVaudZougZürichLiechtenstein \n\n\n \n \n\n\n \n \n\n\nDate de naissance:   \n\nVeuillez laisser ce champ vide.\n\n  \n\nComment nous avez-vous connu ? Site webTout ménageCinémaUn amiAnnonce dans le journalAutre...  \n\nVous allez recevoir une confirmation d’inscription avec toutes les informations nécessaires pour le paiement. Si vous ne recevez pas de confirmation d’ici quelques minutes\, merci de vérifier dans vos spams.  \n\n Je désire m’inscrire à la newsletter de Graines d’éveil pour rester informé.e de nos prochaines formations. \n\nJe reconnais avoir pris connaissance et accepte les conditions générales\, la politique de confidentialité et les droits d’auteur et reproduction du matériel. \n\nRecopier ce code:  \n \n\n \n\nLes champs avec * sont obligatoires \n\n\n[/vc_column][/vc_row]
URL:https://graines-deveil.ch/formation-graines-d-eveil/base-pnl-en-3-jours-lausanne-30-octobre-2026/
LOCATION:Hôtel Alpha Palmier\, Rue Petit Chêne 34\, Lausanne\, Vaud\, 1003\, Switzerland
CATEGORIES:PNL,PNL Base
END:VEVENT
BEGIN:VEVENT
DTSTART;VALUE=DATE:20261205
DTEND;VALUE=DATE:20261207
DTSTAMP:20260419T180255
CREATED:20240930T165839Z
LAST-MODIFIED:20260409T150059Z
UID:10000210-1796428800-1796601599@graines-deveil.ch
SUMMARY:Hypnose Enfants & Adolescents - Lausanne
DESCRIPTION:[vc_row row_height_percent= »0″ override_padding= »yes » h_padding= »0″ top_padding= »0″ bottom_padding= »0″ overlay_alpha= »50″ gutter_size= »3″ column_width_percent= »100″ shift_y= »0″ z_index= »0″ content_parallax= »0″ uncode_shortcode_id= »145178″][vc_column width= »1/1″][vc_column_text uncode_shortcode_id= »570974″]Pré-requis: Praticien en Hypnose Ericksonienne \nHoraires: samedi 9h30-17h30 et dimanche 9h30-17h30\nLieu: Lausanne – Hôtel Alpha Palmiers \nAnimé par Trina Mohn\n \nTarifs:\nFrs. 620.- (et Frs. 580.- si vous avez déjà fait une formation avec Graines-d’éveil) \nAcompte à l’inscription:\nUn acompte de CHF 200.- vous est demandé pour valider l’inscription.\nTous les détails pour le paiement vous seront communiqués dans l’email de confirmation.[/vc_column_text]\n\n  \n\n\n\nFormulaire d'inscription\nJe m'inscris à:  		\n\n			\n			\n		\n		 \nAux dates: \n\n		\n\n			\n			\n		\n		 \n		\n\n			\n			\n		\n		 \n\nVeuillez laisser ce champ vide. \n\n \n \n\n\n \nArgovieAppenzell Rhodes int.Appenzell Rhodes ext.Bâle CampagneBâle VilleBernFribourgGenèveGlarisGrisonsJuraLucerneNeuchâtelNidwaldObwaldSaint-GallSchaffhouseSoleureSchwyzTessinThurgovieUriValaisVaudZougZürichLiechtenstein \n\n\n \n \n\n\n \n \n\n\nDate de naissance:   \n\nVeuillez laisser ce champ vide.\n\n  \n\nComment nous avez-vous connu ? Site webTout ménageCinémaUn amiAnnonce dans le journalAutre...  \n\nVous allez recevoir une confirmation d’inscription avec toutes les informations nécessaires pour le paiement. Si vous ne recevez pas de confirmation d’ici quelques minutes\, merci de vérifier dans vos spams.  \n\n Je désire m’inscrire à la newsletter de Graines d’éveil pour rester informé.e de nos prochaines formations. \n\nJe reconnais avoir pris connaissance et accepte les conditions générales\, la politique de confidentialité et les droits d’auteur et reproduction du matériel. \n\nRecopier ce code:  \n \n\n \n\nLes champs avec * sont obligatoires \n\n\n[/vc_column][/vc_row]
URL:https://graines-deveil.ch/formation-graines-d-eveil/hypnose-enfants-5-decembre-2026/
LOCATION:Hôtel Alpha Palmier\, Rue Petit Chêne 34\, Lausanne\, Vaud\, 1003\, Switzerland
CATEGORIES:Hypnose enfants et ados,Hypnose Ericksonienne,Stages
END:VEVENT
BEGIN:VEVENT
DTSTART;VALUE=DATE:20270128
DTEND;VALUE=DATE:20270531
DTSTAMP:20260419T180255
CREATED:20250909T143525Z
LAST-MODIFIED:20260318T192303Z
UID:10000296-1801094400-1811721599@graines-deveil.ch
SUMMARY:Maître Praticien en Hypnose Ericksonienne - 12 jours
DESCRIPTION:[vc_row row_height_percent= »0″ override_padding= »yes » h_padding= »0″ top_padding= »0″ bottom_padding= »0″ overlay_alpha= »50″ gutter_size= »3″ column_width_percent= »100″ shift_y= »0″ z_index= »0″ content_parallax= »0″ uncode_shortcode_id= »107148″][vc_column width= »1/1″][vc_column_text uncode_shortcode_id= »123811″] Dates ( 2 possibilités) \n\n5 modules (2+2+3+3+2):  *26-27 septembre 2026( métaphore) / 28-29 janvier 2027  / 19-21 mars 2027/  16-18 avril 2027/  29-30 mai 2027\n4 modules (4+3+3+2):  28-31 janvier 2027 / 19-21 mars 2027/   16-18 avril 2027/  29-30 mai 2027\n\nPré-requis: avoir fait la Base en PNL ( 3 jours)  pour apprendre les techniques de l’entretien orienté solution et la philosophie de la thérapie brève et L’art de poser des bonnes questions ( 3 jours)  qui est inclus dans le Praticien en hypnose depuis automne 2026. Si vous avez pas fait votre formation avant\, sachez qu’il faut vous mettre à jour en participant à ces deux modules de 3 jours sur les croyances et les questionnement entretien orienté solutions. Vous trouverez toutes les dates sur la page « Dates ». Possibilité de faire ces modules entre les modules d’hypnose si les dates fonctionnent mieux. Ces 2 modules ne sont pas nécéssaire si vous avez déjà suivie une formation de Coach\, ou de Technicien en PNL ou d’autres formation en lien avec la thérapie brève orienté solution. \nHoraires: 9h30-17h30\nLieu: Lausanne – Hôtel Alpha Palmier \nAnimé par Trina Mohn\, Karine Allaman et Fabienne Alfandari\, co-autrice du magnifique livre Métaphore: l’art de la transformation. \nEn vous inscrivant au cursus complet de 24 jours\, vous bénéficiez d’un rabais de 400 Frs.\n3 400\,-chf le Praticien·ne (12j) + 3 400\,-chf le Maître praticien·ne (12j) = Frs. 6’400.- au lieu de Frs. 6’800.- pour les 24j. \nVous avez fait un Praticien en PNL chez Graines-d’éveil vous aurez une équivalence sur le module sur la métaphore\, réduction supplémentaire de 400\,-chf sur le prix. \nAcompte à l’inscription:\nUn acompte de CHF 600.- vous est demandé pour valider l’inscription.\nTous les détails pour le paiement vous seront communiqués dans l’email de confirmation. \nPoint fort : En sortant de chaque module vous aurez accès à une plateforme avec des démonstrations filmées de chaque protocole enseigné. \nAussi\, une fois la formation achevée vous pourrez\, dans les 2 ans qui suivent la formation\, revenir gratuitement à une prochaine formation du même niveau pour revoir certains modules ou l’entièreté de la formation\, sous réserve de places disponibles. \nEn plus d’organiser des formations\, Graines d’éveil organise des demi-journées de supervision/perfectionnement dès Praticien·ne en hypnose achevée\, et ceci pour un prix très avantageux\, (Frs 100.-)[/vc_column_text]\n\n  \n\n\n\nFormulaire d'inscription\nJe m'inscris à:  		\n\n			\n			\n		\n		 \nAux dates: \n\n		\n\n			\n			\n		\n		 \n		\n\n			\n			\n		\n		 \n\nVeuillez laisser ce champ vide. \n\n \n \n\n\n \nArgovieAppenzell Rhodes int.Appenzell Rhodes ext.Bâle CampagneBâle VilleBernFribourgGenèveGlarisGrisonsJuraLucerneNeuchâtelNidwaldObwaldSaint-GallSchaffhouseSoleureSchwyzTessinThurgovieUriValaisVaudZougZürichLiechtenstein \n\n\n \n \n\n\n \n \n\n\nDate de naissance:   \n\nVeuillez laisser ce champ vide.\n\n  \n\nComment nous avez-vous connu ? Site webTout ménageCinémaUn amiAnnonce dans le journalAutre...  \n\nVous allez recevoir une confirmation d’inscription avec toutes les informations nécessaires pour le paiement. Si vous ne recevez pas de confirmation d’ici quelques minutes\, merci de vérifier dans vos spams.  \n\n Je désire m’inscrire à la newsletter de Graines d’éveil pour rester informé.e de nos prochaines formations. \n\nJe reconnais avoir pris connaissance et accepte les conditions générales\, la politique de confidentialité et les droits d’auteur et reproduction du matériel. \n\nRecopier ce code:  \n \n\n \n\nLes champs avec * sont obligatoires \n\n\n[/vc_column][/vc_row]
URL:https://graines-deveil.ch/formation-graines-d-eveil/maitre-praticien-en-hypnose-ericksonienne-28-janvier-2027/
LOCATION:Hôtel Alpha Palmier\, Rue Petit Chêne 34\, Lausanne\, Vaud\, 1003\, Switzerland
CATEGORIES:Hypnose Ericksonienne,Hypnose Maître praticien
END:VEVENT
BEGIN:VEVENT
DTSTART;VALUE=DATE:20270305
DTEND;VALUE=DATE:20270308
DTSTAMP:20260419T180255
CREATED:20260401T144631Z
LAST-MODIFIED:20260401T144631Z
UID:10000326-1804204800-1804463999@graines-deveil.ch
SUMMARY:Base PNL en 3 jours - Lausanne
DESCRIPTION:[vc_row row_height_percent= »0″ override_padding= »yes » h_padding= »0″ top_padding= »0″ bottom_padding= »0″ overlay_alpha= »50″ gutter_size= »3″ column_width_percent= »100″ shift_y= »0″ z_index= »0″ content_parallax= »0″ uncode_shortcode_id= »211568″][vc_column width= »1/1″][vc_column_text uncode_shortcode_id= »575152″]Dates: 5-7 mars 2027 \n\nHoraires: 9h30-17h00 les vendredi\, samedi et dimanche\nLieu: Lausanne – Hôtel Alpha Palmiers \nAnimé par Trina Mohn \nTarifs:\nFrs. 580.- \nAcompte à l’inscription:\nUn acompte de CHF 200.- vous est demandé pour valider l’inscription.\nTous les détails pour le paiement vous seront communiqués dans l’email de confirmation. \nTarif cursus complet:\nPrix spécial pour les inscriptions au cursus complet : Base – Praticien – Maître Praticien = Frs. 8800.- au lieu de Frs. 9780.- \nModalités de paiement:\nPour le cursus complet\, un acompte de Frs. 1’400.- est demandé pour valider l’inscription.\nPossibilité d’échelonner les paiements en 6 acomptes de Frs. 1’400. \nPoint fort: Une fois la formation achevée vous pourrez\, dans les 3 ans qui suivent la formation\, revenir gratuitement à une prochaine formation du même niveau pour revoir certains modules ou l’entièreté de la formation\, sous réserve de places disponibles. \n\n[/vc_column_text]\n\n  \n\n\n\nFormulaire d'inscription\nJe m'inscris à:  		\n\n			\n			\n		\n		 \nAux dates: \n\n		\n\n			\n			\n		\n		 \n		\n\n			\n			\n		\n		 \n\nVeuillez laisser ce champ vide. \n\n \n \n\n\n \nArgovieAppenzell Rhodes int.Appenzell Rhodes ext.Bâle CampagneBâle VilleBernFribourgGenèveGlarisGrisonsJuraLucerneNeuchâtelNidwaldObwaldSaint-GallSchaffhouseSoleureSchwyzTessinThurgovieUriValaisVaudZougZürichLiechtenstein \n\n\n \n \n\n\n \n \n\n\nDate de naissance:   \n\nVeuillez laisser ce champ vide.\n\n  \n\nComment nous avez-vous connu ? Site webTout ménageCinémaUn amiAnnonce dans le journalAutre...  \n\nVous allez recevoir une confirmation d’inscription avec toutes les informations nécessaires pour le paiement. Si vous ne recevez pas de confirmation d’ici quelques minutes\, merci de vérifier dans vos spams.  \n\n Je désire m’inscrire à la newsletter de Graines d’éveil pour rester informé.e de nos prochaines formations. \n\nJe reconnais avoir pris connaissance et accepte les conditions générales\, la politique de confidentialité et les droits d’auteur et reproduction du matériel. \n\nRecopier ce code:  \n \n\n \n\nLes champs avec * sont obligatoires \n\n\n[/vc_column][/vc_row]
URL:https://graines-deveil.ch/formation-graines-d-eveil/base-pnl-en-3-jours-lausanne-5-mars-2027/
LOCATION:Hôtel Alpha Palmier\, Rue Petit Chêne 34\, Lausanne\, Vaud\, 1003\, Switzerland
CATEGORIES:PNL,PNL Base
END:VEVENT
BEGIN:VEVENT
DTSTART;VALUE=DATE:20270305
DTEND;VALUE=DATE:20270308
DTSTAMP:20260419T180255
CREATED:20260401T144917Z
LAST-MODIFIED:20260401T145250Z
UID:10000327-1804204800-1804463999@graines-deveil.ch
SUMMARY:Base PNL en 3 jours - Lausanne
DESCRIPTION:[vc_row row_height_percent= »0″ override_padding= »yes » h_padding= »0″ top_padding= »0″ bottom_padding= »0″ overlay_alpha= »50″ gutter_size= »3″ column_width_percent= »100″ shift_y= »0″ z_index= »0″ content_parallax= »0″ uncode_shortcode_id= »211568″][vc_column width= »1/1″][vc_column_text uncode_shortcode_id= »293208″]Dates: 30 avril- 2 mai 2027 \n\nHoraires: 9h30-17h00 les vendredi\, samedi et dimanche\nLieu: Lausanne – Hôtel Alpha Palmiers \nAnimé par Trina Mohn \nTarifs:\nFrs. 580.- \nAcompte à l’inscription:\nUn acompte de CHF 200.- vous est demandé pour valider l’inscription.\nTous les détails pour le paiement vous seront communiqués dans l’email de confirmation. \nTarif cursus complet:\nPrix spécial pour les inscriptions au cursus complet : Base – Praticien – Maître Praticien = Frs. 8800.- au lieu de Frs. 9780.- \nModalités de paiement:\nPour le cursus complet\, un acompte de Frs. 1’400.- est demandé pour valider l’inscription.\nPossibilité d’échelonner les paiements en 6 acomptes de Frs. 1’400. \nPoint fort: Une fois la formation achevée vous pourrez\, dans les 3 ans qui suivent la formation\, revenir gratuitement à une prochaine formation du même niveau pour revoir certains modules ou l’entièreté de la formation\, sous réserve de places disponibles. \n\n[/vc_column_text]\n\n  \n\n\n\nFormulaire d'inscription\nJe m'inscris à:  		\n\n			\n			\n		\n		 \nAux dates: \n\n		\n\n			\n			\n		\n		 \n		\n\n			\n			\n		\n		 \n\nVeuillez laisser ce champ vide. \n\n \n \n\n\n \nArgovieAppenzell Rhodes int.Appenzell Rhodes ext.Bâle CampagneBâle VilleBernFribourgGenèveGlarisGrisonsJuraLucerneNeuchâtelNidwaldObwaldSaint-GallSchaffhouseSoleureSchwyzTessinThurgovieUriValaisVaudZougZürichLiechtenstein \n\n\n \n \n\n\n \n \n\n\nDate de naissance:   \n\nVeuillez laisser ce champ vide.\n\n  \n\nComment nous avez-vous connu ? Site webTout ménageCinémaUn amiAnnonce dans le journalAutre...  \n\nVous allez recevoir une confirmation d’inscription avec toutes les informations nécessaires pour le paiement. Si vous ne recevez pas de confirmation d’ici quelques minutes\, merci de vérifier dans vos spams.  \n\n Je désire m’inscrire à la newsletter de Graines d’éveil pour rester informé.e de nos prochaines formations. \n\nJe reconnais avoir pris connaissance et accepte les conditions générales\, la politique de confidentialité et les droits d’auteur et reproduction du matériel. \n\nRecopier ce code:  \n \n\n \n\nLes champs avec * sont obligatoires \n\n\n[/vc_column][/vc_row]
URL:https://graines-deveil.ch/formation-graines-d-eveil/base-pnl-en-3-jours-lausanne-30-avril-2027/
LOCATION:Hôtel Alpha Palmier\, Rue Petit Chêne 34\, Lausanne\, Vaud\, 1003\, Switzerland
CATEGORIES:PNL,PNL Base
END:VEVENT
END:VCALENDAR